BEGIN:VCALENDAR
VERSION:2.0
PRODID:-//Devon Training Hub - ECPv6.15.17.1//NONSGML v1.0//EN
CALSCALE:GREGORIAN
METHOD:PUBLISH
X-WR-CALNAME:Devon Training Hub
X-ORIGINAL-URL:https://devontraininghub.co.uk
X-WR-CALDESC:Events for Devon Training Hub
REFRESH-INTERVAL;VALUE=DURATION:PT1H
X-Robots-Tag:noindex
X-PUBLISHED-TTL:PT1H
BEGIN:VTIMEZONE
TZID:Europe/London
BEGIN:DAYLIGHT
TZOFFSETFROM:+0000
TZOFFSETTO:+0100
TZNAME:BST
DTSTART:20230326T010000
END:DAYLIGHT
BEGIN:STANDARD
TZOFFSETFROM:+0100
TZOFFSETTO:+0000
TZNAME:GMT
DTSTART:20231029T010000
END:STANDARD
BEGIN:DAYLIGHT
TZOFFSETFROM:+0000
TZOFFSETTO:+0100
TZNAME:BST
DTSTART:20240331T010000
END:DAYLIGHT
BEGIN:STANDARD
TZOFFSETFROM:+0100
TZOFFSETTO:+0000
TZNAME:GMT
DTSTART:20241027T010000
END:STANDARD
BEGIN:DAYLIGHT
TZOFFSETFROM:+0000
TZOFFSETTO:+0100
TZNAME:BST
DTSTART:20250330T010000
END:DAYLIGHT
BEGIN:STANDARD
TZOFFSETFROM:+0100
TZOFFSETTO:+0000
TZNAME:GMT
DTSTART:20251026T010000
END:STANDARD
END:VTIMEZONE
BEGIN:VEVENT
DTSTART;TZID=Europe/London:20241106T083000
DTEND;TZID=Europe/London:20241106T170000
DTSTAMP:20260419T181205
CREATED:20240819T075809Z
LAST-MODIFIED:20240819T075809Z
UID:10001071-1730881800-1730912400@devontraininghub.co.uk
SUMMARY:Community Management of Spinal Cord Injury
DESCRIPTION:Free Stuff day for  community staff and care providers\, focused on building knowledge to support the management of people with spinal cord injury in the community. \nWhats included: \n\nSkin Mangagement\nTherapeutic Approaches\nPsychological Support\nBowel and Bladder management\nTea and Lunch Provided\nFree Parking\n\nRegister your interest by 18th October 2024 – livewell.penisulacinetwork@nhs.net \n  \n 
URL:https://devontraininghub.co.uk/event/community-management-of-spinal-cord-injury
LOCATION:Tiverton Golf Club\, Tiverton Golf Club\, Tiverton\, EX16 4ne
ORGANIZER;CN="South West Spinal Cord Injury Network":MAILTO:https://swspinalcordinjury.nhs.uk/contact/
END:VEVENT
END:VCALENDAR