BEGIN:VCALENDAR
VERSION:2.0
PRODID:-//Devon Training Hub - ECPv6.15.17.1//NONSGML v1.0//EN
CALSCALE:GREGORIAN
METHOD:PUBLISH
X-WR-CALNAME:Devon Training Hub
X-ORIGINAL-URL:https://devontraininghub.co.uk
X-WR-CALDESC:Events for Devon Training Hub
REFRESH-INTERVAL;VALUE=DURATION:PT1H
X-Robots-Tag:noindex
X-PUBLISHED-TTL:PT1H
BEGIN:VTIMEZONE
TZID:Europe/London
BEGIN:DAYLIGHT
TZOFFSETFROM:+0000
TZOFFSETTO:+0100
TZNAME:BST
DTSTART:20230326T010000
END:DAYLIGHT
BEGIN:STANDARD
TZOFFSETFROM:+0100
TZOFFSETTO:+0000
TZNAME:GMT
DTSTART:20231029T010000
END:STANDARD
BEGIN:DAYLIGHT
TZOFFSETFROM:+0000
TZOFFSETTO:+0100
TZNAME:BST
DTSTART:20240331T010000
END:DAYLIGHT
BEGIN:STANDARD
TZOFFSETFROM:+0100
TZOFFSETTO:+0000
TZNAME:GMT
DTSTART:20241027T010000
END:STANDARD
BEGIN:DAYLIGHT
TZOFFSETFROM:+0000
TZOFFSETTO:+0100
TZNAME:BST
DTSTART:20250330T010000
END:DAYLIGHT
BEGIN:STANDARD
TZOFFSETFROM:+0100
TZOFFSETTO:+0000
TZNAME:GMT
DTSTART:20251026T010000
END:STANDARD
END:VTIMEZONE
BEGIN:VEVENT
DTSTART;TZID=Europe/London:20241016T093000
DTEND;TZID=Europe/London:20241016T153000
DTSTAMP:20260419T205441
CREATED:20240422T104655Z
LAST-MODIFIED:20240621T091208Z
UID:10000899-1729071000-1729092600@devontraininghub.co.uk
SUMMARY:Introduction to Ear Care for Practice Nurses - 16th October 2024 – Hosted by LDC
DESCRIPTION:Introduction to Ear Care for Practice Nurses – 16th October 2024\, 09:30 to 15:30.\nwith Tracey Owen\, Ear Care Specialist. \nIvybridge Rugby Club\, Cross In Hand\, Ivybridge\, Devon PL21 0LR \nThis study day is designed for Nurses and Registered Nursing Associates with no experience in ear irrigation and Instrumentation. \n  \nObjectives/learning outcomes: \nAt the end of the study day the learners should: \n  \n\nHave a theoretical knowledge of the anatomy and physiology of the ear.\nBe able to recognise various conditions that can affect the ear and know how to treat them and advise on prevention\nBe able to carry out holistic assessments and plan an appropriate plan of care for patients.\nDemonstrate correct use of equipment\, including decontamination\nDemonstrate correct and safe technique when carrying out:\nOtoscopy  –  within the group\nInstrumentation/ irrigation – on an educational model\n\nPLEASE NOTE \nWe are able to provide refreshments for this course\, but delegates are asked to bring their own packed lunches as catering is unfortunately not available on this occasion.  \nIf you no longer require your place on this course place cancel it so that there is availability for other delegates.  To cancel a booking please log into your training account\, go to the Centre course list and click on the orange box next to the course name. \n  \nIf you have any questions please contact the team!  ldc.sentinel@nhs.net
URL:https://devontraininghub.co.uk/event/introduction-to-ear-care-for-practice-nurses-10th-july-2024-hosted-by-ldc
LOCATION:Ivybridge Rugby Club\, Cross In Hand\, Ivybridge\, PL21 0LR
CATEGORIES:Clinical Skills Courses,Ear Care Courses
ORGANIZER;CN="Learning and Development Centre":MAILTO:ldc.sentinel@nhs.net
END:VEVENT
BEGIN:VEVENT
DTSTART;TZID=Europe/London:20240611T133000
DTEND;TZID=Europe/London:20240611T163000
DTSTAMP:20260419T205441
CREATED:20240205T155527Z
LAST-MODIFIED:20240205T155527Z
UID:10000294-1718112600-1718123400@devontraininghub.co.uk
SUMMARY:Introduction to Phlebotomy - 11th June 2024
DESCRIPTION:Introduction to Phlebotomy – 11th June 2024.  13:30 to 16:30\nIn-person training at Ivybridge Rugby Club\, PL21 0LR\nWith Clinical Educator Claire May \nSuitable for all Healthcare Professionals \nThis course will be run as an in-person training course at the Ivybridge Rugby Club\, Cross In Hand\, Ivybridge\, Devon\, PL21 0LR.   There is free parking available in the main car park at the venue.  \nThe training material covers all aspects of Phlebotomy and gives delegates a complete understanding of the theory associated with this procedure.  Delegates are also given the opportunity to work with a fake arm and practice the procedure. \nAfter the training session delegates will be sent the training slides and a competency document to complete in practice with an experienced and suitably qualified Mentor.  Please ensure that there is someone in practice available to oversee your work while you complete the practical elements of the course. \nOnce complete please retain the competency document with the course certificate to evidence proficiency; we do not need to see these once completed but you can upload them to your Learning and Development Centre account. \nCourse joining instructions will be emailed to you in the week prior to the event. \nIf you have any questions please contact the team at ldc.sentinel@nhs.net
URL:https://devontraininghub.co.uk/event/introduction-to-phlebotomy-11th-june-2024
LOCATION:Ivybridge Rugby Club\, Cross In Hand\, Ivybridge\, PL21 0LR
CATEGORIES:Clinical Skills Courses,Phlebotomy/Pernicious Anaemia Courses
ORGANIZER;CN="Learning and Development Centre":MAILTO:ldc.sentinel@nhs.net
END:VEVENT
END:VCALENDAR