BEGIN:VCALENDAR
VERSION:2.0
PRODID:-//Devon Training Hub - ECPv6.15.17.1//NONSGML v1.0//EN
CALSCALE:GREGORIAN
METHOD:PUBLISH
X-WR-CALNAME:Devon Training Hub
X-ORIGINAL-URL:https://devontraininghub.co.uk
X-WR-CALDESC:Events for Devon Training Hub
REFRESH-INTERVAL;VALUE=DURATION:PT1H
X-Robots-Tag:noindex
X-PUBLISHED-TTL:PT1H
BEGIN:VTIMEZONE
TZID:Europe/London
BEGIN:DAYLIGHT
TZOFFSETFROM:+0000
TZOFFSETTO:+0100
TZNAME:BST
DTSTART:20250330T010000
END:DAYLIGHT
BEGIN:STANDARD
TZOFFSETFROM:+0100
TZOFFSETTO:+0000
TZNAME:GMT
DTSTART:20251026T010000
END:STANDARD
BEGIN:DAYLIGHT
TZOFFSETFROM:+0000
TZOFFSETTO:+0100
TZNAME:BST
DTSTART:20260329T010000
END:DAYLIGHT
BEGIN:STANDARD
TZOFFSETFROM:+0100
TZOFFSETTO:+0000
TZNAME:GMT
DTSTART:20261025T010000
END:STANDARD
BEGIN:DAYLIGHT
TZOFFSETFROM:+0000
TZOFFSETTO:+0100
TZNAME:BST
DTSTART:20270328T010000
END:DAYLIGHT
BEGIN:STANDARD
TZOFFSETFROM:+0100
TZOFFSETTO:+0000
TZNAME:GMT
DTSTART:20271031T010000
END:STANDARD
END:VTIMEZONE
BEGIN:VEVENT
DTSTART;TZID=Europe/London:20260305T090000
DTEND;TZID=Europe/London:20260305T164500
DTSTAMP:20260419T162926
CREATED:20250910T143817Z
LAST-MODIFIED:20250910T143817Z
UID:10001618-1772701200-1772729100@devontraininghub.co.uk
SUMMARY:Travel Health Masterclass (Travel Health Update for Registered Healthcare Practitioners) - 5th March 2026 - Hosted by LDC
DESCRIPTION:Travel Health Masterclass (Travel Health Update for Registered Healthcare Practitioners) – 5th March 2026.\n09:00 to 16:45.\nFroginwell Vineyard\, Woodbury Salterton\, Exeter\, EX5 1EP\nOpen to all practitioners across the South West. \nChaired by Tricia Smith and Emma Edwards\, Specialist Immunisation Educators\n  \nThe Learning and Development Centre is delighted to be hosting the Travel Health Masterclass\, supported by a dazzling array of expert speakers which have been coordinated and chaired by our very own Travel Health expert educators\, Tricia Smith and Emma Edwards. \nThis Masterclass will constitute an annual update for Registered Healthcare Practitioners that have previously attended a Travel Health or Travel Immunisations Foundation course with the Learning and Development Centre.  If you have any queries please do contact us: ldc.sentinel@nhs.net \nThis is a fully catered event.  Please ensure that you add any dietary or access requirements to your booking. \nAGENDA – COMING SOON!  \nAmenities and Access: \nThere is plenty of free parking available at the venue. Refreshments and a buffet lunch will be provided during the day.  If you have access or dietary needs please ensure that these are included on your booking so that the organisers and venue are aware ahead of the event.  All personal details provided will remain strictly private and confidential. \nBookings: \nPlease ensure that all bookings for this event are made in the name of the person that will be attending and that the name is written as you would like it to appear on your conference badge and on your certificate of attendance.  If there are any queries about how to create a booking\, or about the event itself\, please contact the Learning and Development Centre in the first instance: ldc.sentinel@nhs.net.
URL:https://devontraininghub.co.uk/event/travel-health-masterclass-travel-health-update-for-registered-healthcare-practitioners-5th-march-2026-hosted-by-ldc
LOCATION:Froginwell Vineyard\, Woodbury Salterton\, EX5 1EP
CATEGORIES:Clinical Skills Courses,Immunisation Courses
ORGANIZER;CN="Learning and Development Centre":MAILTO:ldc.sentinel@nhs.net
END:VEVENT
END:VCALENDAR