BEGIN:VCALENDAR
VERSION:2.0
PRODID:-//Devon Training Hub - ECPv6.15.17.1//NONSGML v1.0//EN
CALSCALE:GREGORIAN
METHOD:PUBLISH
X-ORIGINAL-URL:https://devontraininghub.co.uk
X-WR-CALDESC:Events for Devon Training Hub
REFRESH-INTERVAL;VALUE=DURATION:PT1H
X-Robots-Tag:noindex
X-PUBLISHED-TTL:PT1H
BEGIN:VTIMEZONE
TZID:Europe/London
BEGIN:DAYLIGHT
TZOFFSETFROM:+0000
TZOFFSETTO:+0100
TZNAME:BST
DTSTART:20250330T010000
END:DAYLIGHT
BEGIN:STANDARD
TZOFFSETFROM:+0100
TZOFFSETTO:+0000
TZNAME:GMT
DTSTART:20251026T010000
END:STANDARD
BEGIN:DAYLIGHT
TZOFFSETFROM:+0000
TZOFFSETTO:+0100
TZNAME:BST
DTSTART:20260329T010000
END:DAYLIGHT
BEGIN:STANDARD
TZOFFSETFROM:+0100
TZOFFSETTO:+0000
TZNAME:GMT
DTSTART:20261025T010000
END:STANDARD
BEGIN:DAYLIGHT
TZOFFSETFROM:+0000
TZOFFSETTO:+0100
TZNAME:BST
DTSTART:20270328T010000
END:DAYLIGHT
BEGIN:STANDARD
TZOFFSETFROM:+0100
TZOFFSETTO:+0000
TZNAME:GMT
DTSTART:20271031T010000
END:STANDARD
END:VTIMEZONE
BEGIN:VEVENT
DTSTART;TZID=Europe/London:20260602T090000
DTEND;TZID=Europe/London:20260602T170000
DTSTAMP:20260421T200657
CREATED:20260128T141642Z
LAST-MODIFIED:20260407T112955Z
UID:10001794-1780390800-1780419600@devontraininghub.co.uk
SUMMARY:Oliver McGowan Mandatory Training on Learning Disability and Autism: Tier 2\, Part 2 – 2nd June 2026 – Hosted by LDC
DESCRIPTION:Oliver McGowan Mandatory Training on Learning Disability and Autism: Tier 2\, Part 2 – 2nd June 2026.\n09:00 to 17:00.\nIn person training to be delivered at Cullompton Community Centre\, Pye Corner\, Cullompton\, Devon. EX15 1JX.\nHosted by the Learning and Development Centre with Award Training.\nSuitable for: \nAll staff working in a registered health and/or social care setting that make decisions about the care of people with learning disabilities and/or autism. \nAs of July 2022\, all registered health and social care providers are now required to provide training for their staff in learning disability and autism\, including how to interact appropriately with autistic people and people who have a learning disability. \nPlease use this graphic to determine which Tier of training you should attend: \n \nALL DELEGATES MUST COMPLETE THE 90-MINUTE ONLINE LEARNING MODULE BEFORE ATTENDING THIS EVENT.  CLICK HERE TO ACCESS THE MODULE VIA E-LEARNING FOR HEALTHCARE: https://www.e-lfh.org.uk/programmes/the-oliver-mcgowan-mandatory-training-on-learning-disability-and-autism/ \nFrom our training partners\, Award Training: \nThe Oliver McGowan Mandatory Training on Learning Disability and Autism is a standardised\, government-recommended training package designed to ensure consistent\, high-quality learning across the health and social care sector. \nDelivered by trained and approved facilitators\, the structured approach ensures that: \n✔ Content and delivery remain consistent\, making the training fully transferable between employers \n✔ It aligns with national standards and best practices\, as recognised by leading advisory bodies in health and social care \n✔ Staff receive the essential knowledge and understanding required by the Health and Care Act 2022 \nFacilities and Catering: \nAll refreshments\, the buffet lunch\, venue costs\, training materials and provision of specialist trainers  are included in the course fee.  If delegates have any access or dietary needs please ensure these are clearly identified at the time of booking. \nThis is a live teaching session\, presented in person at the venue.  This session will not be streamed or recorded for future reference.  Delegates will be sent additional information and meeting details in the week prior to the teaching session. \nParking: \nThere is plenty of free parking available in the main car park at Cullompton Community Centre. \nIf you no longer require your place on this course place cancel it so that there is availability for other delegates.  To cancel a booking please log into your Learning and Development Centre account\, go to the Centre course list and click on the orange box next to the course name. \nIf there are any queries please contact us! ldc.sentinel@nhs.net
URL:https://devontraininghub.co.uk/event/oliver-mcgowan-mandatory-training-on-learning-disability-and-autism-tier-2-part-2-2nd-june-2026-hosted-by-ldc
LOCATION:Cullompton Community Centre\, Pye Corner\, Cullompton\, EX15 1JX
CATEGORIES:Clinical Skills Courses
ORGANIZER;CN="Learning and Development Centre":MAILTO:ldc.sentinel@nhs.net
END:VEVENT
BEGIN:VEVENT
DTSTART;TZID=Europe/London:20260923T090000
DTEND;TZID=Europe/London:20260923T160000
DTSTAMP:20260421T200657
CREATED:20260325T094405Z
LAST-MODIFIED:20260325T094405Z
UID:10001894-1790154000-1790179200@devontraininghub.co.uk
SUMMARY:Cervical Sample Taker Training: East Devon - September 2026 - Hosted by LDC
DESCRIPTION:Cervical Sample Taker Training: East Devon – September 2026.\nIn person training at Cullompton Community Centre\, Pye Corner\, Cullompton\, Devon. EX15 1JX.\nWith Clinical Educator Pauline Bird. \nPLEASE READ ALL THE INFORMATION BELOW BEFORE MAKING A BOOKING\nTRAINEES MUST LIAISE WITH THEIR PRACTICE MANAGER AND MENTOR IN PRACTICE BEFORE BOOKING A PLACE ON THIS PROGRAMME. \nThis course is only suitable for Registered Practitioners that hold a current\, valid PIN.  \nWednesday 16th September 2026 – 09:15 – 10:00 \nMentor Introduction – Mandatory Virtual Training for Mentors of Trainees \nA Mentor for each Trainee must be nominated and available to attend the virtual Mentor Introduction. This must take place before the Trainee can undertake any of the practical elements of the Cervical Sample Taker Training programme.  \nMentors of Trainees must hold a valid PIN and have undertaken a Sample Taking Foundation or Update course within the last 3 years.  For the full list of eligibility criteria please read the Mentor Guide. \nInvitations to this session will be sent on receipt of the Mentor Information Form – this is sent in the first instance to the Trainee who will send it to the nominated professional in practice.  \nNOTE – Attendance at this session is MANDATORY unless certain criteria are met and Mentor absence is agreed in advance with the CSTT Administrator.  If an additional Mentor Introduction session is required to ensure full compliance with government guidelines\, a fee of £25 will be charged to cover administration and educator costs and facilitation. Provision of additional Mentor Introductions are at the discretion of the Learning and Development Centre and if no arrangements can be made within timescales Trainees may be deferred to a later programme.  \nPLEASE ONLY MAKE A COURSE BOOKING IN THE NAME OF THE PERSON THAT WILL BE ATTENDING THE COURSE.   \nIf there are any queries about how to do this\, please contact shs.cervicalsampletakers1@nhs.net or refer to our Website User Guide \nTrainees must attend all of the sessions detailed below: \nWednesday 23rd September 2026 – 09:00 – 16:00 \nFace to Face teaching session for Trainee Sample Takers \nCullompton Community Centre\, Pye Corner\, Cullompton\, Devon. EX15 1JX. \nWednesday 30th September 2026 – 09:00 – 16:00  \nFace to Face teaching and practical session for Trainee Sample Takers \nCullompton Community Centre\, Pye Corner\, Cullompton\, Devon. EX15 1JX. \nThe aim of this course is to support Cervical Sample Taker Trainees to maintain high standards of sample taking in accordance with local and national standards. The guidance was updated in 2023 and our initial training sessions include the following: \n\nThe NHS Cervical Screening Programme\nThe background to cervical screening\nOrganisation of the NHS Cervical Screening Programme\nEquality of access to cervical screening\nUnderstanding the test results\nAnatomy and physiology of the pelvic organs\nPractical aspects and professional responsibilities of taking cervical samples\n\nTrainees will receive initial theory and practical training with our Clinical Educators before completing the rest of the programme by undertaking supported procedures in practice with their Mentor.  The whole programme can take up to 6 months to complete\, but can take as little as 6 weeks if there are sufficient appointments available to the Trainee. \nLearning and Development Centre provides a detailed programme of work to follow\, a Training Portfolio and Training Handbook\, and professional support for Sample Taker Trainees and their Mentors throughout the programme. When the Trainee Sample Taker has completed the programme we allocate an independent External Assessor to liaise with the Trainee and complete a Final Clinical Assessment. \nOur team consists of: \n– Julie Frost – Clinical Educator \n– Pauline Bird – Clinical Educator \n– Stephanie Hawkes – Cervical Sample Taker Training Administrator \nPlease be aware that there is information required from Trainees\, Practice Managers and Mentors that must be submitted prior to the Trainee attending the first training session.  \nA Mentor for each Trainee must be nominated and available to attend the virtual Mentor Introduction.  This is a requirement of the programme and Trainees cannot begin practical elements in practice if this has not been completed.  \nIf there are any queries please contact us: shs.cervicalsampletakers1@nhs.net
URL:https://devontraininghub.co.uk/event/cervical-sample-taker-training-east-devon-september-2026-hosted-by-ldc
LOCATION:Cullompton Community Centre\, Pye Corner\, Cullompton\, EX15 1JX
CATEGORIES:Clinical Skills Courses
ORGANIZER;CN="Learning and Development Centre":MAILTO:ldc.sentinel@nhs.net
END:VEVENT
END:VCALENDAR