BEGIN:VCALENDAR
VERSION:2.0
PRODID:-//Devon Training Hub - ECPv6.15.17.1//NONSGML v1.0//EN
CALSCALE:GREGORIAN
METHOD:PUBLISH
X-WR-CALNAME:Devon Training Hub
X-ORIGINAL-URL:https://devontraininghub.co.uk
X-WR-CALDESC:Events for Devon Training Hub
REFRESH-INTERVAL;VALUE=DURATION:PT1H
X-Robots-Tag:noindex
X-PUBLISHED-TTL:PT1H
BEGIN:VTIMEZONE
TZID:Europe/London
BEGIN:DAYLIGHT
TZOFFSETFROM:+0000
TZOFFSETTO:+0100
TZNAME:BST
DTSTART:20240331T010000
END:DAYLIGHT
BEGIN:STANDARD
TZOFFSETFROM:+0100
TZOFFSETTO:+0000
TZNAME:GMT
DTSTART:20241027T010000
END:STANDARD
BEGIN:DAYLIGHT
TZOFFSETFROM:+0000
TZOFFSETTO:+0100
TZNAME:BST
DTSTART:20250330T010000
END:DAYLIGHT
BEGIN:STANDARD
TZOFFSETFROM:+0100
TZOFFSETTO:+0000
TZNAME:GMT
DTSTART:20251026T010000
END:STANDARD
BEGIN:DAYLIGHT
TZOFFSETFROM:+0000
TZOFFSETTO:+0100
TZNAME:BST
DTSTART:20260329T010000
END:DAYLIGHT
BEGIN:STANDARD
TZOFFSETFROM:+0100
TZOFFSETTO:+0000
TZNAME:GMT
DTSTART:20261025T010000
END:STANDARD
END:VTIMEZONE
BEGIN:VEVENT
DTSTART;TZID=Europe/London:20250716T090000
DTEND;TZID=Europe/London:20250716T160000
DTSTAMP:20260421T213957
CREATED:20250321T132733Z
LAST-MODIFIED:20250321T132733Z
UID:10001371-1752656400-1752681600@devontraininghub.co.uk
SUMMARY:Cervical Sample Taker Training - East Devon - July 2025 - Hosted by LDC
DESCRIPTION:Cervical Sample Taker Training – East Devon – July 2025\nWith Clinical Educator Pauline Bird.\n  \n  \nPLEASE READ ALL THE INFORMATION BELOW BEFORE MAKING A BOOKING\n  \n  \nWednesday 9th July 2025 – 09:15 – 10:00 \nMentor Introduction – Mandatory Virtual Training for Mentors of Trainees \nA Mentor in practice must be nominated for each Trainee\, and that person must be available to attend the virtual Mentor Introduction. This must take place before the Trainee can undertake any of the practical elements of the Cervical Sample Taker Training programme.  \nPlease check for Mentor eligibility against the criteria in our Mentor Guide. \n  \n  \nInvitations to this session will be sent on receipt of the Mentor Information Form.  Trainees will be able to share this when they receive their Welcome Email about a month before training is scheduled to begin.   \nPLEASE ONLY MAKE A COURSE BOOKING IN THE NAME OF THE PERSON THAT WILL BE ATTENDING THE COURSE.   \nIf there are any queries about how to do this\, please contact shs.cervicalsampletakers1@nhs.net or refer to our Website User Guide \nTrainees must attend all of the sessions detailed below: \nWednesday 16th July 2025 – 09:00 – 16:00 \nFace to Face teaching session for Trainee Sample Takers \nCullompton Community Centre\, Pye Corner\, Cullompton\, Devon\, EX15 1JX \nWednesday 23rd July 2025 – 09:00 – 16:00  \nFace to Face teaching and practical session for Trainee Sample Takers \nCullompton Community Centre\, Pye Corner\, Cullompton\, Devon\, EX15 1JX \nThe aim of this course is to enable Cervical Sample Taker Trainees to maintain high standards of sample taking in accordance with local and national standards. The guidance was updated in 2020 and again in 2024\, and our initial training sessions include the following\, reflecting these changes: \n  \n\nThe NHS Cervical Screening Programme\nThe background to cervical screening\nOrganisation of the NHS Cervical Screening Programme\nEquality of access to cervical screening\nUnderstanding the test results\nAnatomy and physiology of the pelvic organs\nPractical aspects and professional responsibilities of taking cervical samples\n\n  \nTrainees will receive initial theory and practical training with our Clinical Educators before completing the rest of the programme by undertaking supported procedures in practice with their Mentor.  The whole programme can take up to 6 months to complete\, but can take as little as 6 weeks if there are sufficient appointments available to the Trainee. \nLearning and Development Centre provides a detailed programme of work to follow\, a Training Portfolio and Training Handbook\, and professional support for Sample Taker Trainees and their Mentors throughout the programme. When the Trainee Sample Taker has completed the programme we allocate an independent External Assessor to liaise with the Trainee and complete a Final Clinical Assessment. \nOur team consists of: \n– Julie Frost – Clinical Educator \n– Pauline Bird – Clinical Educator \n– Stephanie Hawkes – Cervical Sample Taker Training Administrator \n– Victoria Tucker – Cervical Sample Taker Training Administrator \nPlease note that there is information required from Trainees\, Practice Managers and Mentors that must be submitted prior to the Trainee attending the first training session. \nA Mentor for each Trainee must be nominated and available to attend the virtual Mentor Introduction.  This is a requirement of the programme and Trainees cannot begin practical elements in practice if this has not been completed.  \n  \nIf there are any queries please contact us: shs.cervicalsampletakers1@nhs.net
URL:https://devontraininghub.co.uk/event/cervical-sample-taker-training-east-devon-july-2025-hosted-by-ldc
LOCATION:Cullompton Community Centre\, Pye Corner\, Cullompton\, EX15 1JX
CATEGORIES:Clinical Skills Courses
ORGANIZER;CN="Learning and Development Centre":MAILTO:ldc.sentinel@nhs.net
END:VEVENT
END:VCALENDAR