BEGIN:VCALENDAR
VERSION:2.0
PRODID:-//Devon Training Hub - ECPv6.15.17.1//NONSGML v1.0//EN
CALSCALE:GREGORIAN
METHOD:PUBLISH
X-ORIGINAL-URL:https://devontraininghub.co.uk
X-WR-CALDESC:Events for Devon Training Hub
REFRESH-INTERVAL;VALUE=DURATION:PT1H
X-Robots-Tag:noindex
X-PUBLISHED-TTL:PT1H
BEGIN:VTIMEZONE
TZID:Europe/London
BEGIN:DAYLIGHT
TZOFFSETFROM:+0000
TZOFFSETTO:+0100
TZNAME:BST
DTSTART:20250330T010000
END:DAYLIGHT
BEGIN:STANDARD
TZOFFSETFROM:+0100
TZOFFSETTO:+0000
TZNAME:GMT
DTSTART:20251026T010000
END:STANDARD
BEGIN:DAYLIGHT
TZOFFSETFROM:+0000
TZOFFSETTO:+0100
TZNAME:BST
DTSTART:20260329T010000
END:DAYLIGHT
BEGIN:STANDARD
TZOFFSETFROM:+0100
TZOFFSETTO:+0000
TZNAME:GMT
DTSTART:20261025T010000
END:STANDARD
BEGIN:DAYLIGHT
TZOFFSETFROM:+0000
TZOFFSETTO:+0100
TZNAME:BST
DTSTART:20270328T010000
END:DAYLIGHT
BEGIN:STANDARD
TZOFFSETFROM:+0100
TZOFFSETTO:+0000
TZNAME:GMT
DTSTART:20271031T010000
END:STANDARD
END:VTIMEZONE
BEGIN:VEVENT
DTSTART;TZID=Europe/London:20260514T090000
DTEND;TZID=Europe/London:20260514T160000
DTSTAMP:20260420T003227
CREATED:20260413T142810Z
LAST-MODIFIED:20260413T145651Z
UID:10001908-1778749200-1778774400@devontraininghub.co.uk
SUMMARY:Devon General Practice Nursing Team Conference – Thursday 14th May 2026
DESCRIPTION:Applications are now open for our annual General Practice Nursing Team conference\, open to nurses and nursing associates working in Primary Care in Devon. Our conference this year includes Integrated Neighbourhood Teams \, Wound Care \, Immunisation in Primary Care\, Genomics \, Sustainability in Healthcare and more. \n\nDate: Thursday 14th May 2026\nVenue: Buckfast Abbey Conference Centre TQ11 0EG\nTimings: 09.00 – 16.00\n\nPlease click on our flyer for sign up details and note that you can only fill out this form using your NHS email address.  A confirmation email will be sent to you regarding your registration in due course. \nRegistrations close strictly on Sunday 3rd May at 5pm.  Any questions or queries\, please contact d-icb.devon.traininghub@nhs.net
URL:https://devontraininghub.co.uk/event/devon-general-practice-nursing-team-conference-thursday-14th-may-2026
LOCATION:Buckfast Abbey Conference Centre\, Buckfast Abbey\, Northwood Ln\, Buckfastleigh\, Buckfastleigh\, TQ11 0EG
ORGANIZER;CN="Devon Training Hub":MAILTO:devon.traininghub@nhs.net
END:VEVENT
END:VCALENDAR