BEGIN:VCALENDAR
VERSION:2.0
PRODID:-//Devon Training Hub - ECPv6.15.17.1//NONSGML v1.0//EN
CALSCALE:GREGORIAN
METHOD:PUBLISH
X-ORIGINAL-URL:https://devontraininghub.co.uk
X-WR-CALDESC:Events for Devon Training Hub
REFRESH-INTERVAL;VALUE=DURATION:PT1H
X-Robots-Tag:noindex
X-PUBLISHED-TTL:PT1H
BEGIN:VTIMEZONE
TZID:Europe/London
BEGIN:DAYLIGHT
TZOFFSETFROM:+0000
TZOFFSETTO:+0100
TZNAME:BST
DTSTART:20230326T010000
END:DAYLIGHT
BEGIN:STANDARD
TZOFFSETFROM:+0100
TZOFFSETTO:+0000
TZNAME:GMT
DTSTART:20231029T010000
END:STANDARD
BEGIN:DAYLIGHT
TZOFFSETFROM:+0000
TZOFFSETTO:+0100
TZNAME:BST
DTSTART:20240331T010000
END:DAYLIGHT
BEGIN:STANDARD
TZOFFSETFROM:+0100
TZOFFSETTO:+0000
TZNAME:GMT
DTSTART:20241027T010000
END:STANDARD
BEGIN:DAYLIGHT
TZOFFSETFROM:+0000
TZOFFSETTO:+0100
TZNAME:BST
DTSTART:20250330T010000
END:DAYLIGHT
BEGIN:STANDARD
TZOFFSETFROM:+0100
TZOFFSETTO:+0000
TZNAME:GMT
DTSTART:20251026T010000
END:STANDARD
END:VTIMEZONE
BEGIN:VEVENT
DTSTART;TZID=Europe/London:20240612T080000
DTEND;TZID=Europe/London:20240613T170000
DTSTAMP:20260420T004318
CREATED:20240417T081228Z
LAST-MODIFIED:20240417T081228Z
UID:10000897-1718179200-1718298000@devontraininghub.co.uk
SUMMARY:Fundamentals of Immunisation course
DESCRIPTION:The UK Health Security Agency (UKHSA) and UCL Great Ormond Street Institute of Child Health are running a Fundamentals of Immunisation course. This 2-day intense theoretical course is designed for those new to a role in immunisation and is most suited to those who give or advise on a range of different vaccines. \nThe course comprises of a series of lectures from national immunisation experts and will provide delegates with the latest information on the range of topics included in the ‘Core Curriculum for Immunisation Training’ . A basic level of prior immunisation knowledge and familiarity with the Green Book (Immunisation against infectious disease) will be assumed. \nThe programme includes the following topics: \n\nwhy immunisation matters\nthe scientific basis of national vaccine policy: designing\, informing and monitoring immunisation programmes\nimmunology of immunisation\nvaccine manufacture and vaccine trials\nmonitoring vaccine safety\ncurrent issues in vaccine preventable diseases\nvaccine coverage data collections\nlegal issues including consent\npractical issues: storage and administration\nmaximising immunisation uptake\ntalking with parents about immunisation\n\nDate of event: 12th and 13th June 2024 \nVenue: UCL Great Ormond Street Institute of Child Health 30 Guilford Street London WC1N 1EH \nCourse fee: £200 for 2 days (£100 for one day) \nBook a place: https://onlinestore.ucl.ac.uk/conferences-and-events/faculty-of-population-health-sciences-c09/institute-of-child-health-events-g32/g32-fundamentals-of-immunisation-12th-to-13th-of-june-2024
URL:https://devontraininghub.co.uk/event/fundamentals-of-immunisation-course
LOCATION:UCL Great Ormond Street Institute of Child Health\, 30 Guilford Street\, London\, WC1N 1EH
END:VEVENT
END:VCALENDAR